BEGIN:VCALENDAR
VERSION:2.0
PRODID:-//ChamberMaster//Event Calendar 2.0//EN
METHOD:PUBLISH
X-PUBLISHED-TTL:P3D
REFRESH-INTERVAL:P3D
CALSCALE:GREGORIAN
BEGIN:VEVENT
DTSTART:20110305T160000Z
DTEND:20110305T220000Z
X-MICROSOFT-CDO-ALLDAYEVENT:FALSE
SUMMARY:Farm & Home Show
DESCRIPTION:Farm & Home Show - Bring Fresh Ideas Home\n\nsponsored by Beatrice Daily Sun\n\n\n\nSaturday\, March 5\n\n10 a.m. - 4 p.m.\n\n\n\nBeatrice City Auditorium\, 205 N 4th Street\n\n\n\nFREE ADMISSION!\n\n\n\nSign-up for a booth at www.beatricedailysun.com/homeshow
X-ALT-DESC;FMTTYPE=text/html:Farm &amp\; Home Show - Bring Fresh Ideas Home<br />\nsponsored by Beatrice Daily Sun<br />\n<br />\nSaturday\, March 5<br />\n10 a.m. - 4 p.m.<br />\n<br />\nBeatrice City Auditorium\, 205 N 4th Street<br />\n<br />\nFREE ADMISSION!<br />\n<br />\nSign-up for a booth at <a href="http://www.beatricedailysun.com/homeshow">www.beatricedailysun.com/homeshow</a>
LOCATION:
UID:e.41.4182
SEQUENCE:3
DTSTAMP:20260424T211652Z
URL:https://business.beatricechamber.com/events/details/farm-home-show-03-05-2011-4182
END:VEVENT

END:VCALENDAR
