BEGIN:VCALENDAR
VERSION:2.0
PRODID:-//ChamberMaster//Event Calendar 2.0//EN
METHOD:PUBLISH
X-PUBLISHED-TTL:P3D
REFRESH-INTERVAL:P3D
CALSCALE:GREGORIAN
BEGIN:VEVENT
DTSTART:20110801T223000Z
DTEND:20110802T000000Z
X-MICROSOFT-CDO-ALLDAYEVENT:FALSE
SUMMARY:Farmers Cooperative's 26th Annual Appreciation Barbecue
DESCRIPTION:August 1 at 5:30-7 p.m. in Plymouth at East Side Park
X-ALT-DESC;FMTTYPE=text/html:August 1 at 5:30-7 p.m. in Plymouth at East Side Park
LOCATION:
UID:e.41.5013
SEQUENCE:3
DTSTAMP:20260424T140642Z
URL:https://business.beatricechamber.com/events/details/farmers-cooperative-s-26th-annual-appreciation-barbecue-08-01-2011-5013
END:VEVENT

END:VCALENDAR
