BEGIN:VCALENDAR
VERSION:2.0
PRODID:-//ChamberMaster//Event Calendar 2.0//EN
METHOD:PUBLISH
X-PUBLISHED-TTL:P3D
REFRESH-INTERVAL:P3D
CALSCALE:GREGORIAN
BEGIN:VEVENT
DTSTART:20110721T220000Z
DTEND:20110722T000000Z
X-MICROSOFT-CDO-ALLDAYEVENT:FALSE
SUMMARY:Farmers Market
DESCRIPTION:Farmers Market\n\n	Located between 200 Block North 5th Street\n\n	Beatrice\, NE\n\n	\n\n	Thursdays 5 - 7 pm\n\n	June thru September\n\n	\n\n	Sponsored by Main Street Beatrice\n\n	\n\n	\n\n	The Main Street Beatrice summer Farmer's Market season is quickly approaching. If you are a vendor or interested in becoming a ven-dor for the market\, it is time to get your application in! Main Street Beatrice accepts a variety of ven-dors from fresh\, locally grown pro-duce and products like baked goods and honey to home based businesses and craft vendors. Simply contact the Main Street office today at 402-223-3244 or you can print the application from our website at www.mainstreetbeatrice.org and mail it in. If you are planning on selling any type of food or produce you are required to attend the market vendor meeting. The vendor meeting will be held on Wednes-day\, April 27th from 6 pm to 8 pm in the Beatrice City Auditorium.
X-ALT-DESC;FMTTYPE=text/html:<p>\n	<font size="1">Farmers Market<br />\n	Located between 200 Block North 5th Street<br />\n	Beatrice\, NE<br />\n	<br />\n	Thursdays 5 - 7 pm<br />\n	June thru September<br />\n	<br />\n	Sponsored by Main Street Beatrice<br />\n	<br />\n	<br />\n	The Main Street Beatrice summer Farmer&rsquo\;s Market season is quickly approaching. If you are a vendor or interested in becoming a ven-dor for the market\, it is time to get your application in! Main Street Beatrice accepts a variety of ven-dors from fresh\, locally grown pro-duce and products like baked goods and honey to home based businesses and craft vendors. Simply contact the Main Street office today at 402-223-3244 or you can print the application from our website at </font><font size="1">www.mainstreetbeatrice.org </font><font size="1">and mail it in. If you are planning on selling any type of food or produce you are required to attend the market vendor meeting. The vendor meeting will be held on Wednes-day\, April 27th from 6 pm to 8 pm in the Beatrice City Auditorium. </font></p>\n<p>\n	<font face="Potato Farmer\,Potato Farmer" size="7"><font face="Potato Farmer\,Potato Farmer" size="7"><span _fck_bookmark="1" style="display: none">&nbsp\;</span></font></font></p>\n
LOCATION:
UID:e.41.4272
SEQUENCE:3
DTSTAMP:20260424T153157Z
URL:https://business.beatricechamber.com/events/details/farmers-market-07-21-2011-4272
END:VEVENT

END:VCALENDAR
