BEGIN:VCALENDAR
VERSION:2.0
PRODID:-//ChamberMaster//Event Calendar 2.0//EN
METHOD:PUBLISH
X-PUBLISHED-TTL:P3D
REFRESH-INTERVAL:P3D
CALSCALE:GREGORIAN
BEGIN:VEVENT
DTSTART:20091125T010000Z
DTEND:20091125T020000Z
X-MICROSOFT-CDO-ALLDAYEVENT:FALSE
SUMMARY:Farmers Union Meeting
DESCRIPTION:Meeting of the Gage/Jefferson County Farmer's Unionis being held in Plymouthat the Plymouth Community BuildingTuesday\, November 24th at 7:00 pm All members are invited to attend this important fall meeting.
X-ALT-DESC;FMTTYPE=text/html:<div>Meeting of the Gage/Jefferson County Farmer's Union</div><div>is being held in Plymouth</div><div>at the Plymouth Community Building</div><div>Tuesday\, November 24th at 7:00 pm</div><div>&nbsp\;</div><div>All members are invited to attend this important fall meeting.</div>
LOCATION:
UID:e.41.1537
SEQUENCE:3
DTSTAMP:20260425T205101Z
URL:https://business.beatricechamber.com/events/details/farmers-union-meeting-11-24-2009-1537
END:VEVENT

END:VCALENDAR
