BEGIN:VCALENDAR
VERSION:2.0
PRODID:-//ChamberMaster//Event Calendar 2.0//EN
METHOD:PUBLISH
X-PUBLISHED-TTL:P3D
REFRESH-INTERVAL:P3D
CALSCALE:GREGORIAN
BEGIN:VEVENT
DTSTART:20110318T210000Z
DTEND:20110319T010000Z
X-MICROSOFT-CDO-ALLDAYEVENT:FALSE
SUMMARY:Fight for a Cure Supper
DESCRIPTION:8th Annual "Fight for a Cure" soup and pizza supper\n\n\n\nFriday\, March 18\n\n4 - 8 pm\n\n\n\nThe Rail\n\nBeatrice\, NE\n\n\n\nThe supper is hosted by a Gage County Relay for Life team\, with proceeds going to the American Cancer Society Relay for Life in Gage County. \n\n\n\nAnyone wishing to make a soup for this event may contact Diana at (402)228-6720.
X-ALT-DESC;FMTTYPE=text/html:8th Annual &quot\;Fight for a Cure&quot\; soup and pizza supper<br />\n<br />\nFriday\, March 18<br />\n4 - 8 pm<br />\n<br />\nThe Rail<br />\nBeatrice\, NE<br />\n<br />\nThe supper is hosted by a Gage County Relay for Life team\, with proceeds going to the American Cancer Society Relay for Life in Gage County.&nbsp\;<br />\n<br />\nAnyone wishing to make a soup for this event may contact Diana at (402)228-6720.<br />\n<br />\n
LOCATION:
UID:e.41.4236
SEQUENCE:3
DTSTAMP:20260424T211653Z
URL:https://business.beatricechamber.com/events/details/fight-for-a-cure-supper-03-18-2011-4236
END:VEVENT

END:VCALENDAR
