BEGIN:VCALENDAR
VERSION:2.0
PRODID:-//ChamberMaster//Event Calendar 2.0//EN
METHOD:PUBLISH
X-PUBLISHED-TTL:P3D
REFRESH-INTERVAL:P3D
CALSCALE:GREGORIAN
BEGIN:VEVENT
DTSTART;VALUE=DATE:20111008
DTEND;VALUE=DATE:20111009
TRANSP:TRANSPARENT
X-MICROSOFT-CDO-ALLDAYEVENT:TRUE
SUMMARY:Filley Stone Barn Festival
DESCRIPTION:Filley Stone Barn Festival\n\nhosted by Blue Valley Antique Collector Association and the Gage County Historical Society\n\n\n\nSaturday\, October 8\, 2011\n\n10 am - 4 pm\n\n\n\n13282 East Scott Road\, Filley\, NE\, two miles south of Filley\n\n\n\nFor details\, contact Gage County Historical Society\, (402)228-1679.
X-ALT-DESC;FMTTYPE=text/html:Filley Stone Barn Festival<br />\nhosted by Blue Valley Antique Collector Association and the Gage County Historical Society<br />\n<br />\nSaturday\, October 8\, 2011<br />\n10 am - 4 pm<br />\n<br />\n13282 East Scott Road\, Filley\, NE\, two miles south of Filley<br />\n<br />\nFor details\, contact Gage County Historical Society\, (402)228-1679.<br />\n
LOCATION:
UID:e.41.5059
SEQUENCE:3
DTSTAMP:20260424T111601Z
URL:https://business.beatricechamber.com/events/details/filley-stone-barn-festival-10-08-2011-5059
END:VEVENT

END:VCALENDAR
