BEGIN:VCALENDAR
VERSION:2.0
PRODID:-//ChamberMaster//Event Calendar 2.0//EN
METHOD:PUBLISH
X-PUBLISHED-TTL:P3D
REFRESH-INTERVAL:P3D
CALSCALE:GREGORIAN
BEGIN:VEVENT
DTSTART;VALUE=DATE:20120205
DTEND;VALUE=DATE:20120206
TRANSP:TRANSPARENT
X-MICROSOFT-CDO-ALLDAYEVENT:TRUE
SUMMARY:Filley Volunteer Fireman Pancake Feed
DESCRIPTION:Filley Volunteer Fireman Pancake Feed\n\n\n\nSunday\, February 5\n\n11 am - 1 pm\n\n\n\nSapp Fire Building in Filley\n\n\n\nFreewill donation\; all-you-can-eat pancakes\, eggs\, sausage and drink.  Proceeds to purchase additional equipment.
X-ALT-DESC;FMTTYPE=text/html:Filley Volunteer Fireman Pancake Feed<br />\n<br />\nSunday\, February 5<br />\n11 am - 1 pm<br />\n<br />\nSapp Fire Building in Filley<br />\n<br />\nFreewill donation\; all-you-can-eat pancakes\, eggs\, sausage and drink.&nbsp\; Proceeds to purchase additional equipment.
LOCATION:
UID:e.41.5298
SEQUENCE:3
DTSTAMP:20260422T185521Z
URL:https://business.beatricechamber.com/events/details/filley-volunteer-fireman-pancake-feed-02-05-2012-5298
END:VEVENT

END:VCALENDAR
