BEGIN:VCALENDAR
VERSION:2.0
PRODID:-//ChamberMaster//Event Calendar 2.0//EN
METHOD:PUBLISH
X-PUBLISHED-TTL:P3D
REFRESH-INTERVAL:P3D
CALSCALE:GREGORIAN
BEGIN:VEVENT
DTSTART;VALUE=DATE:20110206
DTEND;VALUE=DATE:20110207
TRANSP:TRANSPARENT
X-MICROSOFT-CDO-ALLDAYEVENT:TRUE
SUMMARY:Filley Volunteer Firemen Pancake Feed
DESCRIPTION:Filley Volunteer Firemen Pancake Feed\n\n\n\n11 a.m. - 1 p.m.\n\nSapp Building\, Main Street\, Filley\n\n\n\nFreewill donation to improve fire department readiness.
X-ALT-DESC;FMTTYPE=text/html:Filley Volunteer Firemen Pancake Feed<br />\n<br />\n11 a.m. - 1 p.m.<br />\nSapp Building\, Main Street\, Filley<br />\n<br />\nFreewill donation to improve fire department readiness.
LOCATION:
UID:e.41.3295
SEQUENCE:3
DTSTAMP:20260424T225643Z
URL:https://business.beatricechamber.com/events/details/filley-volunteer-firemen-pancake-feed-02-06-2011-3295
END:VEVENT

END:VCALENDAR
