BEGIN:VCALENDAR
VERSION:2.0
PRODID:-//ChamberMaster//Event Calendar 2.0//EN
METHOD:PUBLISH
X-PUBLISHED-TTL:P3D
REFRESH-INTERVAL:P3D
CALSCALE:GREGORIAN
BEGIN:VEVENT
DTSTART;VALUE=DATE:20111114
DTEND;VALUE=DATE:20111115
TRANSP:TRANSPARENT
X-MICROSOFT-CDO-ALLDAYEVENT:TRUE
SUMMARY:Financial Aid Meeting at BHS
DESCRIPTION:Beatrice High School will be hositng a Financial Aid Night\n\n\n\nMonday\, November 14\n\n7 pm\n\n\n\nHigh School Media Center\, 600 Orange Blvd.\n\n\n\n\n\nA representative from EducationQuest will explain the different types of financial aid\, filing for financial aid and answer questions about the Free Application for Federal Student Aid (FAFSA).\n\nThe presentation is open to parents of Beatrice High School students and any other area high schools.  There will be a time for questions following the presentation.
X-ALT-DESC;FMTTYPE=text/html:Beatrice High School will be hositng a Financial Aid Night<br />\n<br />\nMonday\, November 14<br />\n7 pm<br />\n<br />\nHigh School Media Center\, 600 Orange Blvd.<br />\n<br />\n<br />\nA representative from EducationQuest will explain the different types of financial aid\, filing for financial aid and answer questions about the Free Application for Federal Student Aid (FAFSA).<br />\nThe presentation is open to parents of Beatrice High School students and any other area high schools.&nbsp\; There will be a time for questions following the presentation.
LOCATION:
UID:e.41.5247
SEQUENCE:3
DTSTAMP:20260424T100001Z
URL:https://business.beatricechamber.com/events/details/financial-aid-meeting-at-bhs-11-14-2011-5247
END:VEVENT

END:VCALENDAR
