BEGIN:VCALENDAR
VERSION:2.0
PRODID:-//ChamberMaster//Event Calendar 2.0//EN
METHOD:PUBLISH
X-PUBLISHED-TTL:P3D
REFRESH-INTERVAL:P3D
CALSCALE:GREGORIAN
BEGIN:VEVENT
DTSTART;VALUE=DATE:20110918
DTEND;VALUE=DATE:20110919
TRANSP:TRANSPARENT
X-MICROSOFT-CDO-ALLDAYEVENT:TRUE
SUMMARY:"Finding Home" film screening
DESCRIPTION:Beatrice native Megan O'Connor will screen her film\, "Finding Home"\n\n\n\nSunday\, September 18\n\n2 pm\n\nHomestead National Monument Education Center\n\n\n\nFilm explores the question of the American Dream of home and home ownership for today's young adults.
X-ALT-DESC;FMTTYPE=text/html:Beatrice native Megan O&#39\;Connor will screen her film\, &quot\;Finding Home&quot\;<br />\n<br />\nSunday\, September 18<br />\n2 pm<br />\nHomestead National Monument Education Center<br />\n<br />\nFilm explores the question of the American Dream of home and home ownership for today&#39\;s young adults.
LOCATION:
UID:e.41.5109
SEQUENCE:3
DTSTAMP:20260424T122946Z
URL:https://business.beatricechamber.com/events/details/finding-home-film-screening-09-18-2011-5109
END:VEVENT

END:VCALENDAR
