BEGIN:VCALENDAR
VERSION:2.0
PRODID:-//ChamberMaster//Event Calendar 2.0//EN
METHOD:PUBLISH
X-PUBLISHED-TTL:P3D
REFRESH-INTERVAL:P3D
CALSCALE:GREGORIAN
BEGIN:VEVENT
DTSTART;VALUE=DATE:20111001
DTEND;VALUE=DATE:20111003
TRANSP:TRANSPARENT
X-MICROSOFT-CDO-ALLDAYEVENT:TRUE
SUMMARY:Firearm Hunter Education Offered
DESCRIPTION:Firearm Hunter Education\n\n\n\nExtension Office in Beatrice\n\n\n\n\n\nSaturday\, October 1  -  8 am - 5 pm\n\n& Sunday\, October 2 - 1 pm - 5 pm\n\n\n\nClass offered for anyone ages 12-29.  No charge to participate.  Those interested can register online at the Nebraska Game and Parks website.  Click on "Education" or go directly to the following site:  http://outdoornebraska.ne.gov/hunting/programs/education/hunt.asp.
X-ALT-DESC;FMTTYPE=text/html:Firearm Hunter Education<br />\n<br />\nExtension Office in Beatrice<br />\n<br />\n<br />\nSaturday\, October 1&nbsp\; -&nbsp\; 8 am - 5 pm<br />\n&amp\; Sunday\, October 2 - 1 pm - 5 pm<br />\n<br />\nClass offered for anyone ages 12-29.&nbsp\; No charge to participate.&nbsp\; Those interested can register online at the Nebraska Game and Parks website.&nbsp\; Click on &quot\;Education&quot\; or go directly to the following site:&nbsp\; <a href="http://outdoornebraska.ne.gov/hunting/programs/education/hunt.asp">http://outdoornebraska.ne.gov/hunting/programs/education/hunt.asp</a>.<br />\n<br />\n<br />\n<br />\n
LOCATION:
UID:e.41.5126
SEQUENCE:3
DTSTAMP:20260424T110426Z
URL:https://business.beatricechamber.com/events/details/firearm-hunter-education-offered-10-01-2011-5126
END:VEVENT

END:VCALENDAR
