BEGIN:VCALENDAR
VERSION:2.0
PRODID:-//ChamberMaster//Event Calendar 2.0//EN
METHOD:PUBLISH
X-PUBLISHED-TTL:P3D
REFRESH-INTERVAL:P3D
CALSCALE:GREGORIAN
BEGIN:VEVENT
DTSTART:20091020T230000Z
DTEND:20091021T010000Z
X-MICROSOFT-CDO-ALLDAYEVENT:FALSE
SUMMARY:Firearm Safety Class - Homestead 4-H Shooting Club
DESCRIPTION:Homestead 4-H Shooting club is hosting abasic Firearm Safety Class for student ages 7-11. The class will cover basic safety rules and safe gun handling.Classes will be held Oct 13\, 20\, 27\, Nov 3 & 10 at 6:00 pmEach student will need to have an adult present at all times. To register for class or for more informationGage County Extension Office402-223-1384
X-ALT-DESC;FMTTYPE=text/html:<div>Homestead 4-H Shooting club is hosting a</div><div>basic Firearm Safety Class for student ages 7-11.</div><div>&nbsp\;</div><div>The class will cover basic safety rules and safe gun handling.</div><div>Classes will be held Oct 13\, 20\, 27\, Nov 3 &amp\; 10 at 6:00 pm</div><div>Each student will need to have an adult present at all times.</div><div>&nbsp\;</div><div>To register for class or for more information</div><div>Gage County Extension Office</div><div>402-223-1384</div>
LOCATION:
UID:e.41.1471
SEQUENCE:3
DTSTAMP:20260425T222449Z
URL:https://business.beatricechamber.com/events/details/firearm-safety-class-homestead-4-h-shooting-club-10-20-2009-1471
END:VEVENT

END:VCALENDAR
