BEGIN:VCALENDAR
VERSION:2.0
PRODID:-//ChamberMaster//Event Calendar 2.0//EN
METHOD:PUBLISH
X-PUBLISHED-TTL:P3D
REFRESH-INTERVAL:P3D
CALSCALE:GREGORIAN
BEGIN:VEVENT
DTSTART;VALUE=DATE:20110701
DTEND;VALUE=DATE:20110702
TRANSP:TRANSPARENT
X-MICROSOFT-CDO-ALLDAYEVENT:TRUE
SUMMARY:Fireworks!
DESCRIPTION:Fireworks Display at Beatrice Speedway Races\n\nAfter Race Ends!\n\n\n\nFor info www.beatricespeedway.com
X-ALT-DESC;FMTTYPE=text/html:Fireworks Display at Beatrice Speedway Races<br />\nAfter Race Ends!<br />\n<br />\nFor info <a href="http://www.beatricespeedway.com">www.beatricespeedway.com</a>
LOCATION:
UID:e.41.4620
SEQUENCE:3
DTSTAMP:20260424T152846Z
URL:https://business.beatricechamber.com/events/details/fireworks-07-01-2011-4620
END:VEVENT

END:VCALENDAR
