BEGIN:VCALENDAR
VERSION:2.0
PRODID:-//ChamberMaster//Event Calendar 2.0//EN
METHOD:PUBLISH
X-PUBLISHED-TTL:P3D
REFRESH-INTERVAL:P3D
CALSCALE:GREGORIAN
BEGIN:VEVENT
DTSTART;VALUE=DATE:20110617
DTEND;VALUE=DATE:20110618
TRANSP:TRANSPARENT
X-MICROSOFT-CDO-ALLDAYEVENT:TRUE
SUMMARY:Fireworks Extravaganza
DESCRIPTION:Fireworks Extravaganza at dusk in Chautauqua Park.  Sponsored by Security First Bank and Diode Communications.
X-ALT-DESC;FMTTYPE=text/html:Fireworks Extravaganza at dusk in Chautauqua Park.&nbsp\; Sponsored by Security First Bank and Diode Communications.
LOCATION:
UID:e.41.4895
SEQUENCE:3
DTSTAMP:20260424T165314Z
URL:https://business.beatricechamber.com/events/details/fireworks-extravaganza-06-17-2011-4895
END:VEVENT

END:VCALENDAR
