BEGIN:VCALENDAR
VERSION:2.0
PRODID:-//ChamberMaster//Event Calendar 2.0//EN
METHOD:PUBLISH
X-PUBLISHED-TTL:P3D
REFRESH-INTERVAL:P3D
CALSCALE:GREGORIAN
BEGIN:VEVENT
DTSTART:20120407T133000Z
DTEND:20120407T170000Z
X-MICROSOFT-CDO-ALLDAYEVENT:FALSE
SUMMARY:First Annual Easter Hop fueling the Strong Kids Champaign
DESCRIPTION:There will be a 1 mile family run/walk\, 5K\, 10K\, and an Easter Egg Hunt!  Register by March 28th to receive a t-shirt.  5K and 10K races will start at 8:30am\, 1 mile Family run/walk will start at 8:35. Easter egg hunt sponsered by Beatrice Family Chiropractic will start at 10:30am.  Hot dogs\, chips\, and drinks will be served after the Easter Egg Hunt. Stop by the Beatrice YMCA or Beatrice Family Chiropractic to register.
X-ALT-DESC;FMTTYPE=text/html:There will be a 1 mile family run/walk\, 5K\, 10K\, and an Easter Egg Hunt!&nbsp\; Register by March 28th to receive a t-shirt.&nbsp\; 5K and 10K races will start at 8:30am\, 1 mile Family run/walk will start at 8:35. Easter egg hunt sponsered by Beatrice Family Chiropractic will start at 10:30am.&nbsp\; Hot dogs\, chips\, and drinks will be served after the Easter Egg Hunt. Stop by the Beatrice YMCA or Beatrice Family Chiropractic to register. 
LOCATION:Beatrice YMCA\, 1801 Scott St.\, Beatrice\, NE 68310
UID:e.41.5399
SEQUENCE:3
DTSTAMP:20260422T155133Z
URL:https://business.beatricechamber.com/events/details/first-annual-easter-hop-fueling-the-strong-kids-champaign-04-07-2012-5399
END:VEVENT

END:VCALENDAR
