BEGIN:VCALENDAR
VERSION:2.0
PRODID:-//ChamberMaster//Event Calendar 2.0//EN
METHOD:PUBLISH
X-PUBLISHED-TTL:P3D
REFRESH-INTERVAL:P3D
CALSCALE:GREGORIAN
BEGIN:VEVENT
DTSTART:20120406T230000Z
DTEND:20120407T020000Z
X-MICROSOFT-CDO-ALLDAYEVENT:FALSE
SUMMARY:First-Ever Alumni Volleyball Tourney
DESCRIPTION:Beatrice High School will hold its first-ever womens alumni volleyabll tournament\, sponsored by TeamMates Mentoring Program and Lady O Volleyball.
X-ALT-DESC;FMTTYPE=text/html:Beatrice High School will hold its first-ever womens&nbsp\;alumni volleyabll&nbsp\;tournament\, sponsored by TeamMates Mentoring Program and Lady O Volleyball.&nbsp\;
LOCATION:Competition will be held in The O Zone
UID:e.41.5438
SEQUENCE:3
DTSTAMP:20260422T154654Z
URL:https://business.beatricechamber.com/events/details/first-ever-alumni-volleyball-tourney-04-06-2012-5438
END:VEVENT

END:VCALENDAR
