BEGIN:VCALENDAR
VERSION:2.0
PRODID:-//ChamberMaster//Event Calendar 2.0//EN
METHOD:PUBLISH
X-PUBLISHED-TTL:P3D
REFRESH-INTERVAL:P3D
CALSCALE:GREGORIAN
BEGIN:VEVENT
DTSTART:20091222T150000Z
DTEND:20091222T220000Z
X-MICROSOFT-CDO-ALLDAYEVENT:FALSE
SUMMARY:First National Bank Open House
DESCRIPTION:One of the great pleasuresof the holiday Season is theopportunity to exchange cordialgreetings with those we value. First National Bank is pleased toinvited you to our Holiday Open HouseIndian Creek Mall and8th & Court Street Tuesday\, December 22\, 20099 am - 4 pm
X-ALT-DESC;FMTTYPE=text/html:<div>One of the great pleasures</div><div>of the holiday Season is the</div><div>opportunity to exchange cordial</div><div>greetings with those we value.</div><div>&nbsp\;</div><div>First National Bank is pleased to</div><div>invited you to our Holiday Open House</div><div>Indian Creek Mall and</div><div>8th &amp\; Court Street</div><div>&nbsp\;</div><div>Tuesday\, December 22\, 2009</div><div>9 am - 4 pm</div>
LOCATION:
UID:e.41.1568
SEQUENCE:3
DTSTAMP:20260425T194142Z
URL:https://business.beatricechamber.com/events/details/first-national-bank-open-house-12-22-2009-1568
END:VEVENT

END:VCALENDAR
