BEGIN:VCALENDAR
VERSION:2.0
PRODID:-//ChamberMaster//Event Calendar 2.0//EN
METHOD:PUBLISH
X-PUBLISHED-TTL:P3D
REFRESH-INTERVAL:P3D
CALSCALE:GREGORIAN
BEGIN:VEVENT
DTSTART;VALUE=DATE:20101107
DTEND;VALUE=DATE:20101108
TRANSP:TRANSPARENT
X-MICROSOFT-CDO-ALLDAYEVENT:TRUE
SUMMARY:First Trinity Lutheran celebrates 135 years
DESCRIPTION:First Trinity Lutheran celebrates 135 years\n\n\n\nThe congregation of First Trinity Lutheran Church\, rural Beatrice\, is celebrating the church's 135th anniversary Sunday. The worship service begins at 9:15 a.m.\, with dedication of the Handicap ramp and Plaza project to follow. Rev. Russ Sommerfield\, president of the Nebraska District\, LCMS\, will be the guest speaker.\n\n\n\nThe day's events will also include an historical presentation and a potluck luncheon.\n\n\n\nFor more information\, contact the church office at 228-0216.
X-ALT-DESC;FMTTYPE=text/html:<span style="font-size: 14px"><u><strong>First Trinity Lutheran celebrates 135 years</strong></u></span><br />\n<br />\nThe congregation of First Trinity Lutheran Church\, rural Beatrice\, is celebrating the church&#39\;s 135th anniversary Sunday. The worship service begins at 9:15 a.m.\, with dedication of the Handicap ramp and Plaza project to follow. Rev. Russ Sommerfield\, president of the Nebraska District\, LCMS\, will be the guest speaker.<br />\n<br />\nThe day&#39\;s events will also include an historical presentation and a potluck luncheon.<br />\n<br />\nFor more information\, contact the church office at 228-0216.<br />\n
LOCATION:
UID:e.41.2783
SEQUENCE:3
DTSTAMP:20260425T032529Z
URL:https://business.beatricechamber.com/events/details/first-trinity-lutheran-celebrates-135-years-11-07-2010-2783
END:VEVENT

END:VCALENDAR
