BEGIN:VCALENDAR
VERSION:2.0
PRODID:-//ChamberMaster//Event Calendar 2.0//EN
METHOD:PUBLISH
X-PUBLISHED-TTL:P3D
REFRESH-INTERVAL:P3D
CALSCALE:GREGORIAN
BEGIN:VEVENT
DTSTART:20110403T160000Z
DTEND:20110403T180000Z
X-MICROSOFT-CDO-ALLDAYEVENT:FALSE
SUMMARY:Fish Feed
DESCRIPTION:Wisconsin-style Fish Feed\n\n	\n\n	Sunday\, April 3\n\n	11 am - 1 pm\n\n	\n\n	St. Paul Lutheran School\, 903 Prairie Lane\, Beatrice\n\n	\n\n	This event is all-you-can-eat.\n\n	\n\n	The freewill offering will go to the Orphan Grain Train to be used in the operation and shipping of medical supplies\, clothing and other goods to the many needy areas around the world.  Supplemental funds for this project will be provided by Thrivent Financial.
X-ALT-DESC;FMTTYPE=text/html:<p>\n	Wisconsin-style Fish Feed<br />\n	<br />\n	Sunday\, April 3<br />\n	11 am - 1 pm<br />\n	<br />\n	St. Paul Lutheran School\, 903 Prairie Lane\, Beatrice<br />\n	<br />\n	This event is all-you-can-eat.<br />\n	<br />\n	The freewill offering will go to the Orphan Grain Train to be used in the operation and shipping of medical supplies\, clothing and other goods to the many needy areas around the world.&nbsp\; Supplemental funds for this project will be provided by Thrivent Financial.</p>\n
LOCATION:
UID:e.41.4420
SEQUENCE:3
DTSTAMP:20260424T194902Z
URL:https://business.beatricechamber.com/events/details/fish-feed-04-03-2011-4420
END:VEVENT

END:VCALENDAR
