BEGIN:VCALENDAR
VERSION:2.0
PRODID:-//ChamberMaster//Event Calendar 2.0//EN
METHOD:PUBLISH
X-PUBLISHED-TTL:P3D
REFRESH-INTERVAL:P3D
CALSCALE:GREGORIAN
BEGIN:VEVENT
DTSTART;VALUE=DATE:20100319
DTEND;VALUE=DATE:20100320
TRANSP:TRANSPARENT
X-MICROSOFT-CDO-ALLDAYEVENT:TRUE
SUMMARY:Fish Fry
DESCRIPTION:Knights of Columbus Council 1723Fish Fry Friday\, March 19\, 20105 p.m. - 7 p.m. St. Joseph's Parish CenterSixth & High StreetBeatrice\, NE Adults: $7Children: $4
X-ALT-DESC;FMTTYPE=text/html:<div>Knights of Columbus Council 1723</div><div>Fish Fry</div><div>&nbsp\;</div><div>Friday\, March 19\, 2010</div><div>5 p.m. -&nbsp\;7 p.m.</div><div>&nbsp\;</div><div>St. Joseph's Parish Center</div><div>Sixth &amp\;&nbsp\;High Street</div><div>Beatrice\, NE</div><div>&nbsp\;</div><div>Adults: $7</div><div>Children: $4</div>
LOCATION:
UID:e.41.1697
SEQUENCE:3
DTSTAMP:20260425T152936Z
URL:https://business.beatricechamber.com/events/details/fish-fry-03-19-2010-1697
END:VEVENT

END:VCALENDAR
