BEGIN:VCALENDAR
VERSION:2.0
PRODID:-//ChamberMaster//Event Calendar 2.0//EN
METHOD:PUBLISH
X-PUBLISHED-TTL:P3D
REFRESH-INTERVAL:P3D
CALSCALE:GREGORIAN
BEGIN:VEVENT
DTSTART:20101119T230000Z
DTEND:20101120T023000Z
X-MICROSOFT-CDO-ALLDAYEVENT:FALSE
SUMMARY:Fish Fry
DESCRIPTION:Fish Fry:\n\n\n\nFriday\, Nov. 19th\n\n\n\n5-8:30PM\n\n\n\nBarneston American Legion
X-ALT-DESC;FMTTYPE=text/html:<strong><span style="font-size: 14px">Fish Fry:</span></strong><br />\n<br />\nFriday\, Nov. 19th<br />\n<br />\n5-8:30PM<br />\n<br />\nBarneston American Legion
LOCATION:
UID:e.41.2823
SEQUENCE:3
DTSTAMP:20260425T032504Z
URL:https://business.beatricechamber.com/events/details/fish-fry-11-19-2010-2823
END:VEVENT

END:VCALENDAR
