BEGIN:VCALENDAR
VERSION:2.0
PRODID:-//ChamberMaster//Event Calendar 2.0//EN
METHOD:PUBLISH
X-PUBLISHED-TTL:P3D
REFRESH-INTERVAL:P3D
CALSCALE:GREGORIAN
BEGIN:VEVENT
DTSTART;VALUE=DATE:20110318
DTEND;VALUE=DATE:20110319
TRANSP:TRANSPARENT
X-MICROSOFT-CDO-ALLDAYEVENT:TRUE
SUMMARY:Fish Fry and Ham
DESCRIPTION:Fish Fry and Ham\n\n\n\nWymore American Legion Club\n\n\n\nFriday\, March 18\n\n5:30 pm\n\n\n\nAll-you-can-eat\; $8\n\n\n\nHosted by Wymore Sons of the American Legion
X-ALT-DESC;FMTTYPE=text/html:Fish Fry and Ham<br />\n<br />\nWymore American Legion Club<br />\n<br />\nFriday\, March 18<br />\n5:30 pm<br />\n<br />\nAll-you-can-eat\; $8<br />\n<br />\nHosted by Wymore Sons of the American Legion
LOCATION:
UID:e.41.4258
SEQUENCE:3
DTSTAMP:20260424T211756Z
URL:https://business.beatricechamber.com/events/details/fish-fry-and-ham-03-18-2011-4258
END:VEVENT

END:VCALENDAR
