BEGIN:VCALENDAR
VERSION:2.0
PRODID:-//ChamberMaster//Event Calendar 2.0//EN
METHOD:PUBLISH
X-PUBLISHED-TTL:P3D
REFRESH-INTERVAL:P3D
CALSCALE:GREGORIAN
BEGIN:VEVENT
DTSTART:20120920T223000Z
DTEND:20120921T000000Z
X-MICROSOFT-CDO-ALLDAYEVENT:FALSE
SUMMARY:Fish Fry and Ham Dinner
DESCRIPTION:All you can eat Fish Fry and Ham Dinner.\n\nPublic Invited.
X-ALT-DESC;FMTTYPE=text/html:All you can eat Fish Fry and Ham Dinner.<br />\nPublic Invited.
LOCATION:American Legion Club 701 Dorsey Beatrice\, NE
UID:e.41.6855
SEQUENCE:3
DTSTAMP:20260422T090540Z
URL:https://business.beatricechamber.com/events/details/fish-fry-and-ham-dinner-09-20-2012-6855
END:VEVENT

END:VCALENDAR
