BEGIN:VCALENDAR
VERSION:2.0
PRODID:-//ChamberMaster//Event Calendar 2.0//EN
METHOD:PUBLISH
X-PUBLISHED-TTL:P3D
REFRESH-INTERVAL:P3D
CALSCALE:GREGORIAN
BEGIN:VEVENT
DTSTART:20110219T233000Z
DTEND:20110220T020000Z
X-MICROSOFT-CDO-ALLDAYEVENT:FALSE
SUMMARY:Fish Fry at Odell American Legion
DESCRIPTION:Odell American Legion FISH FRY\n\n\n\nSaturday\, February 19\n\n5:30 pm - 8 pm\n\n\n\nOdell American Legion Club\, Main Street Odell\, NE\n\n\n\nFish\, Potatoes\, & Salads will be served.
X-ALT-DESC;FMTTYPE=text/html:Odell American Legion FISH FRY<br />\n<br />\nSaturday\, February 19<br />\n5:30 pm - 8 pm<br />\n<br />\nOdell American Legion Club\, Main Street Odell\, NE<br />\n<br />\nFish\, Potatoes\, &amp\; Salads will be served.
LOCATION:
UID:e.41.4183
SEQUENCE:3
DTSTAMP:20260424T225916Z
URL:https://business.beatricechamber.com/events/details/fish-fry-at-odell-american-legion-02-19-2011-4183
END:VEVENT

END:VCALENDAR
