BEGIN:VCALENDAR
VERSION:2.0
PRODID:-//ChamberMaster//Event Calendar 2.0//EN
METHOD:PUBLISH
X-PUBLISHED-TTL:P3D
REFRESH-INTERVAL:P3D
CALSCALE:GREGORIAN
BEGIN:VEVENT
DTSTART;VALUE=DATE:20120719
DTEND;VALUE=DATE:20120720
TRANSP:TRANSPARENT
X-MICROSOFT-CDO-ALLDAYEVENT:TRUE
SUMMARY:Fish Fry & Ham Dinner
DESCRIPTION:AMERICAN LEGION\n\nALL YOU CAN EAT\n\nFISH FRY AND HAM DINNER\n\n$8.00   Adults\n\n$4.00   Children 10 & Under\n\nTHURSDAY\, JULY 19\, 2012\n\n5:30   7:30 P.M.\n\nAMERICAN LEGION CLUB\n\n701 DORSEY\n\n \n\nPUBLIC INVITED
X-ALT-DESC;FMTTYPE=text/html:<span style="font-size: 36pt"><span style="font-family: calibri">AMERICAN LEGION</span></span><br />\n<span style="font-size: 36pt"><span style="font-family: calibri">ALL YOU CAN EAT</span></span><br />\n<span style="font-size: 36pt"><span style="font-family: calibri">FISH FRY AND HAM DINNER</span></span><br />\n<span style="font-size: 36pt"><span style="font-family: calibri">$8.00 &ndash\; Adults</span></span><br />\n<span style="font-size: 36pt"><span style="font-family: calibri">$4.00 &ndash\; Children 10 &amp\; Under</span></span><br />\n<span style="font-size: 28pt"><span style="font-family: calibri">THURSDAY\, JULY 19\, 2012</span></span><br />\n<span style="font-size: 28pt"><span style="font-family: calibri">5:30 &ndash\; 7:30 P.M.</span></span><br />\n<span style="font-size: 28pt"><span style="font-family: calibri">AMERICAN LEGION CLUB</span></span><br />\n<span style="font-size: 28pt"><span style="font-family: calibri">701 DORSEY</span></span><br />\n&nbsp\;<br />\n<span style="font-size: 28pt"><span style="font-family: calibri">PUBLIC INVITED</span></span><br />\n<span style="font-size: 12pt"><span style="font-family: times new roman\, serif">&nbsp\;&nbsp\;&shy\;&shy\;&nbsp\;&nbsp\;</span></span><br />\n
LOCATION:
UID:e.41.6323
SEQUENCE:3
DTSTAMP:20260422T113707Z
URL:https://business.beatricechamber.com/events/details/fish-fry-ham-dinner-07-19-2012-6323
END:VEVENT

END:VCALENDAR
