BEGIN:VCALENDAR
VERSION:2.0
PRODID:-//ChamberMaster//Event Calendar 2.0//EN
METHOD:PUBLISH
X-PUBLISHED-TTL:P3D
REFRESH-INTERVAL:P3D
CALSCALE:GREGORIAN
BEGIN:VEVENT
DTSTART;VALUE=DATE:20111015
DTEND;VALUE=DATE:20111016
TRANSP:TRANSPARENT
X-MICROSOFT-CDO-ALLDAYEVENT:TRUE
SUMMARY:Fish Fry - Odell American Legion
DESCRIPTION:Odell American Legion Fish Fry\n\nSaturday\, October 15\n\n5:30 - 8 pm\n\n\n\nFirst Fry of the Season!\n\n\n\nIncludes salad bar.
X-ALT-DESC;FMTTYPE=text/html:Odell American Legion Fish Fry<br />\nSaturday\, October 15<br />\n5:30 - 8 pm<br />\n<br />\nFirst Fry of the Season!<br />\n<br />\nIncludes salad bar.
LOCATION:
UID:e.41.5183
SEQUENCE:3
DTSTAMP:20260424T111819Z
URL:https://business.beatricechamber.com/events/details/fish-fry-odell-american-legion-10-15-2011-5183
END:VEVENT

END:VCALENDAR
