BEGIN:VCALENDAR
VERSION:2.0
PRODID:-//ChamberMaster//Event Calendar 2.0//EN
METHOD:PUBLISH
X-PUBLISHED-TTL:P3D
REFRESH-INTERVAL:P3D
CALSCALE:GREGORIAN
BEGIN:VEVENT
DTSTART;VALUE=DATE:20110121
DTEND;VALUE=DATE:20110122
TRANSP:TRANSPARENT
X-MICROSOFT-CDO-ALLDAYEVENT:TRUE
SUMMARY:Fish Fry -Wymore Sons of the American Legion
DESCRIPTION:Fish Fry & Ham Meal\n\n	hosted by Wymore Sons of the American Legion\n\n	\n\n	Friday\, January 21st\n\n	5:30 p.m.\n\n	held at Wymore Legion Club\n\n	\n\n	The all-you-can-eat meal is $8 per person.
X-ALT-DESC;FMTTYPE=text/html:<p>\n	Fish Fry &amp\; Ham Meal<br />\n	hosted by Wymore Sons of the American Legion<br />\n	<br />\n	Friday\, January 21st<br />\n	5:30 p.m.<br />\n	held at Wymore Legion Club<br />\n	<br />\n	The all-you-can-eat meal is $8 per person.</p>\n
LOCATION:
UID:e.41.3284
SEQUENCE:3
DTSTAMP:20260425T004205Z
URL:https://business.beatricechamber.com/events/details/fish-fry-wymore-sons-of-the-american-legion-01-21-2011-3284
END:VEVENT

END:VCALENDAR
