BEGIN:VCALENDAR
VERSION:2.0
PRODID:-//ChamberMaster//Event Calendar 2.0//EN
METHOD:PUBLISH
X-PUBLISHED-TTL:P3D
REFRESH-INTERVAL:P3D
CALSCALE:GREGORIAN
BEGIN:VEVENT
DTSTART;VALUE=DATE:20110625
DTEND;VALUE=DATE:20110626
TRANSP:TRANSPARENT
X-MICROSOFT-CDO-ALLDAYEVENT:TRUE
SUMMARY:Fisher Post 367 Annual Rib Cook-Off
DESCRIPTION:Serving begins at 5 p.m. at the American Legion Club in Virginia.  Freewill donations.  Dance music provided by Music Line.
X-ALT-DESC;FMTTYPE=text/html:Serving begins at 5 p.m. at the American Legion Club in Virginia.&nbsp\; Freewill donations.&nbsp\; Dance music provided by Music Line.
LOCATION:
UID:e.41.4922
SEQUENCE:3
DTSTAMP:20260424T165609Z
URL:https://business.beatricechamber.com/events/details/fisher-post-367-annual-rib-cook-off-06-25-2011-4922
END:VEVENT

END:VCALENDAR
