BEGIN:VCALENDAR
VERSION:2.0
PRODID:-//ChamberMaster//Event Calendar 2.0//EN
METHOD:PUBLISH
X-PUBLISHED-TTL:P3D
REFRESH-INTERVAL:P3D
CALSCALE:GREGORIAN
BEGIN:VEVENT
DTSTART:20110312T150000Z
DTEND:20110312T230000Z
X-MICROSOFT-CDO-ALLDAYEVENT:FALSE
SUMMARY:Flea Market (Spring Fling)
DESCRIPTION:Wymore Community Center\n\n\n\n-Dolls\n\n-Antiques\n\n-Jewelry\n\n-Cosmetics\n\n-Pet & Food Products\n\n-Sport Accessories\n\n-Wickless Candles\n\n-Paperbacks\n\n-Crafts & More!
X-ALT-DESC;FMTTYPE=text/html:Wymore Community Center<br />\n<br />\n-Dolls<br />\n-Antiques<br />\n-Jewelry<br />\n-Cosmetics<br />\n-Pet &amp\; Food Products<br />\n-Sport Accessories<br />\n-Wickless Candles<br />\n-Paperbacks<br />\n-Crafts &amp\; More!
LOCATION:
UID:e.41.4234
SEQUENCE:3
DTSTAMP:20260424T212142Z
URL:https://business.beatricechamber.com/events/details/flea-market-spring-fling-03-12-2011-4234
END:VEVENT

END:VCALENDAR
