BEGIN:VCALENDAR
VERSION:2.0
PRODID:-//ChamberMaster//Event Calendar 2.0//EN
METHOD:PUBLISH
X-PUBLISHED-TTL:P3D
REFRESH-INTERVAL:P3D
CALSCALE:GREGORIAN
BEGIN:VEVENT
DTSTART:20110618T160000Z
DTEND:20110618T190000Z
X-MICROSOFT-CDO-ALLDAYEVENT:FALSE
SUMMARY:Flying Conestogas Fly-in
DESCRIPTION:Flying Conestogas Fly-in from 11 a.m.-2 p.m. at the Beatrice Municipal Airport.  Fly-ins on display.  Lunch of sloppy joes and hot dogs.\n\n\n\nFor more information call 402-223-5349.
X-ALT-DESC;FMTTYPE=text/html:Flying Conestogas Fly-in from 11 a.m.-2 p.m. at the Beatrice Municipal Airport.&nbsp\; Fly-ins on display.&nbsp\; Lunch of sloppy joes and hot dogs.<br />\n<br />\nFor more information call 402-223-5349.
LOCATION:
UID:e.41.4905
SEQUENCE:3
DTSTAMP:20260424T165456Z
URL:https://business.beatricechamber.com/events/details/flying-conestogas-fly-in-06-18-2011-4905
END:VEVENT

END:VCALENDAR
