BEGIN:VCALENDAR
VERSION:2.0
PRODID:-//ChamberMaster//Event Calendar 2.0//EN
METHOD:PUBLISH
X-PUBLISHED-TTL:P3D
REFRESH-INTERVAL:P3D
CALSCALE:GREGORIAN
BEGIN:VEVENT
DTSTART;VALUE=DATE:20110514
DTEND;VALUE=DATE:20110515
TRANSP:TRANSPARENT
X-MICROSOFT-CDO-ALLDAYEVENT:TRUE
SUMMARY:Food Drive
DESCRIPTION:National Association of Letter Carriers Food Drive across America\n\n\n\nSaturday\, May 14\n\n\n\nAll the food collected will be donated to local community food banks.\n\n\n\nPostal customers wishing to donate food items should put them in a plastic bag and leave the bag of food items by your mailbox before mail delivery Saturday.
X-ALT-DESC;FMTTYPE=text/html:National Association of Letter Carriers Food Drive across America<br />\n<br />\nSaturday\, May 14<br />\n<br />\nAll the food collected will be donated to local community food banks.<br />\n<br />\nPostal customers wishing to donate food items should put them in a plastic bag and leave the bag of food items by your mailbox before mail delivery Saturday.
LOCATION:
UID:e.41.4821
SEQUENCE:3
DTSTAMP:20260424T182405Z
URL:https://business.beatricechamber.com/events/details/food-drive-05-14-2011-4821
END:VEVENT

END:VCALENDAR
