BEGIN:VCALENDAR
VERSION:2.0
PRODID:-//ChamberMaster//Event Calendar 2.0//EN
METHOD:PUBLISH
X-PUBLISHED-TTL:P3D
REFRESH-INTERVAL:P3D
CALSCALE:GREGORIAN
BEGIN:VEVENT
DTSTART;VALUE=DATE:20120825
DTEND;VALUE=DATE:20120826
TRANSP:TRANSPARENT
X-MICROSOFT-CDO-ALLDAYEVENT:TRUE
SUMMARY:Founder's Day at the Homestead
DESCRIPTION:Starting at 7 pm the Education Center at the Homestead will host NASA Astronaut Clayton Anderson\, after the program youths will be able to view the stars using telescopes and earn a special Junior Ranger Night Explorer patch.
X-ALT-DESC;FMTTYPE=text/html:Starting at 7 pm the Education Center at the Homestead will host NASA Astronaut Clayton Anderson\, after the program youths will be able to view the stars using telescopes and earn a special Junior Ranger Night Explorer patch.
LOCATION:
UID:e.41.6600
SEQUENCE:3
DTSTAMP:20260422T100837Z
URL:https://business.beatricechamber.com/events/details/founder-s-day-at-the-homestead-08-25-2012-6600
END:VEVENT

END:VCALENDAR
