BEGIN:VCALENDAR
VERSION:2.0
PRODID:-//ChamberMaster//Event Calendar 2.0//EN
METHOD:PUBLISH
X-PUBLISHED-TTL:P3D
REFRESH-INTERVAL:P3D
CALSCALE:GREGORIAN
BEGIN:VEVENT
DTSTART;VALUE=DATE:20120704
DTEND;VALUE=DATE:20120705
TRANSP:TRANSPARENT
X-MICROSOFT-CDO-ALLDAYEVENT:TRUE
SUMMARY:Fourth of July Run/Walk/Bike Event
DESCRIPTION:Fourth of July Run/Walk/Bike event\n\n\n\nWednesday\, July 4\n\n9 am\n\n\n\nBlue River Rail Trail\, west of Eight Street & Jayhawk Road\, north of Marysville\, KS\n\nTrail benefit\n\n\n\n$20 individuals\, $40 families\n\n\n\nEvents:  10-mile\, 5-mile\, 3-mile\, and 1-mile\n\n\n\nParticipants may run\, walk\, or bike the distances. \n\n\n\nPam Schroller\, Marysville Health & Fitness\, 785-562-2424\n\nwww.blueriverrailtrail.org or check-in on Facebook
X-ALT-DESC;FMTTYPE=text/html:Fourth of July Run/Walk/Bike event<br />\n<br />\nWednesday\, July 4<br />\n9 am<br />\n<br />\nBlue River Rail Trail\, west of Eight Street &amp\; Jayhawk Road\, north of Marysville\, KS<br />\nTrail benefit<br />\n<br />\n$20 individuals\, $40 families<br />\n<br />\nEvents:&nbsp\; 10-mile\, 5-mile\, 3-mile\, and 1-mile<br />\n<br />\nParticipants may run\, walk\, or bike the distances.&nbsp\;<br />\n<br />\nPam Schroller\, Marysville Health &amp\; Fitness\, 785-562-2424<br />\n<a href="http://www.blueriverrailtrail.org">www.blueriverrailtrail.org</a> or check-in on Facebook
LOCATION:
UID:e.41.5946
SEQUENCE:3
DTSTAMP:20260422T114218Z
URL:https://business.beatricechamber.com/events/details/fourth-of-july-run-walk-bike-event-07-04-2012-5946
END:VEVENT

END:VCALENDAR
