BEGIN:VCALENDAR
VERSION:2.0
PRODID:-//ChamberMaster//Event Calendar 2.0//EN
METHOD:PUBLISH
X-PUBLISHED-TTL:P3D
REFRESH-INTERVAL:P3D
CALSCALE:GREGORIAN
BEGIN:VEVENT
DTSTART:20101225T210000Z
DTEND:20101225T230000Z
X-MICROSOFT-CDO-ALLDAYEVENT:FALSE
SUMMARY:Free community Christmas dinner
DESCRIPTION:A free community Christmas dinner is being held Christmas Day\, Dec. 25\, at First Baptist Church\, 1025 N. 16th St. in Beatrice. Everyone is welcome. The meal will be served from 3-5 p.m. Reservations are appreciated by calling 239-0994.\n\n\n\nThe event is being sponsored by First Baptist Church\, St. Joseph's Catholic Church\, and Warren's Community Table.
X-ALT-DESC;FMTTYPE=text/html:<strong>A free community Christmas dinner is being held Christmas Day\, Dec. 25\, at First Baptist Church\, 1025 N. 16th St. in Beatrice. Everyone is welcome. The meal will be served from 3-5 p.m. Reservations are appreciated by calling 239-0994.<br />\n<br />\nThe event is being sponsored by First Baptist Church\, St. Joseph&#39\;s Catholic Church\, and Warren&#39\;s Community Table.</strong><br />\n
LOCATION:
UID:e.41.2919
SEQUENCE:3
DTSTAMP:20260425T014159Z
URL:https://business.beatricechamber.com/events/details/free-community-christmas-dinner-12-25-2010-2919
END:VEVENT

END:VCALENDAR
