BEGIN:VCALENDAR
VERSION:2.0
PRODID:-//ChamberMaster//Event Calendar 2.0//EN
METHOD:PUBLISH
X-PUBLISHED-TTL:P3D
REFRESH-INTERVAL:P3D
CALSCALE:GREGORIAN
BEGIN:VEVENT
DTSTART:20110617T120000Z
DTEND:20110617T140000Z
X-MICROSOFT-CDO-ALLDAYEVENT:FALSE
SUMMARY:Free Pancake Breakfast
DESCRIPTION:Free Pancake Breakfast from 7-9 a.m. at the First National Bank of Omaha-Beatrice branch parking lot\, Indian Creek Mall parking lot.
X-ALT-DESC;FMTTYPE=text/html:Free Pancake Breakfast from 7-9 a.m. at the First National Bank of Omaha-Beatrice branch parking lot\, Indian Creek Mall parking lot.
LOCATION:
UID:e.41.4885
SEQUENCE:3
DTSTAMP:20260424T165343Z
URL:https://business.beatricechamber.com/events/details/free-pancake-breakfast-06-17-2011-4885
END:VEVENT

END:VCALENDAR
