BEGIN:VCALENDAR
VERSION:2.0
PRODID:-//ChamberMaster//Event Calendar 2.0//EN
METHOD:PUBLISH
X-PUBLISHED-TTL:P3D
REFRESH-INTERVAL:P3D
CALSCALE:GREGORIAN
BEGIN:VEVENT
DTSTART:20110920T160000Z
DTEND:20110920T190000Z
X-MICROSOFT-CDO-ALLDAYEVENT:FALSE
SUMMARY:Free Procurement Conference
DESCRIPTION:Selling goods and services to the government\n\nFREE PROCUREMENT CONFERENCE\n\n\n\nTuesday\, September 20\n\n11 am - 2 pm\n\nValentino's\, 701 Court Street\, Beatrice\, NE\n\n\n\nBuffet Lunch: $7.50 (pay at event)\n\n\n\nConference is Free\, but registration is required.  Register online at ptac.unomaha.edu/events or call 402-554-6252\n\n\n\n11 am sign-up\n\n11:15 am - Introduction\n\n11:30 am - Senator Norman Wallman\n\n11:45 am - Lunch\n\n12:15 pm - Introduction to Government Contracting\, presented by Julie Wilhelm and Scott Knapp\n\n\n\nHosted by Nebraska Business Development Center and University of Omaha College of Business Administration
X-ALT-DESC;FMTTYPE=text/html:Selling goods and services to the government<br />\nFREE PROCUREMENT CONFERENCE<br />\n<br />\nTuesday\, September 20<br />\n11 am - 2 pm<br />\nValentino&#39\;s\, 701 Court Street\, Beatrice\, NE<br />\n<br />\nBuffet Lunch: $7.50 (pay at event)<br />\n<br />\nConference is Free\, but registration is required.&nbsp\; Register online at ptac.unomaha.edu/events or call 402-554-6252<br />\n<br />\n11 am sign-up<br />\n11:15 am - Introduction<br />\n11:30 am - Senator Norman Wallman<br />\n11:45 am - Lunch<br />\n12:15 pm - Introduction to Government Contracting\, presented by Julie Wilhelm and Scott Knapp<br />\n<br />\nHosted by Nebraska Business Development Center and University of Omaha College of Business Administration
LOCATION:
UID:e.41.5110
SEQUENCE:3
DTSTAMP:20260424T122840Z
URL:https://business.beatricechamber.com/events/details/free-procurement-conference-09-20-2011-5110
END:VEVENT

END:VCALENDAR
