BEGIN:VCALENDAR
VERSION:2.0
PRODID:-//ChamberMaster//Event Calendar 2.0//EN
METHOD:PUBLISH
X-PUBLISHED-TTL:P3D
REFRESH-INTERVAL:P3D
CALSCALE:GREGORIAN
BEGIN:VEVENT
DTSTART:20110311T003000Z
DTEND:20110311T013000Z
X-MICROSOFT-CDO-ALLDAYEVENT:FALSE
SUMMARY:Free Seminar
DESCRIPTION:Learn about: Bio-Identical Hormones & HCG Weight Loss Diet.\n\n\n\nWhen: Thursday\, March 10th\, 6:30 to 7:30PM\n\n\n\nWhere: Tropical Tan\, 201 N. 25th\, Beatrice\n\n\n\nLimited Spots\, Call Today to RSVP\n\n402-239-1228
X-ALT-DESC;FMTTYPE=text/html:Learn about: Bio-Identical Hormones &amp\; HCG Weight Loss Diet.<br />\n<br />\n<strong>When: </strong>Thursday\, March 10th\, 6:30 to 7:30PM<br />\n<br />\n<strong>Where: </strong>Tropical Tan\, 201 N. 25th\, Beatrice<br />\n<br />\nLimited Spots\, Call Today to RSVP<br />\n<strong>402-239-1228</strong>
LOCATION:
UID:e.41.4227
SEQUENCE:3
DTSTAMP:20260424T211525Z
URL:https://business.beatricechamber.com/events/details/free-seminar-03-10-2011-4227
END:VEVENT

END:VCALENDAR
