BEGIN:VCALENDAR
VERSION:2.0
PRODID:-//ChamberMaster//Event Calendar 2.0//EN
METHOD:PUBLISH
X-PUBLISHED-TTL:P3D
REFRESH-INTERVAL:P3D
CALSCALE:GREGORIAN
BEGIN:VEVENT
DTSTART;VALUE=DATE:20120714
DTEND;VALUE=DATE:20120715
TRANSP:TRANSPARENT
X-MICROSOFT-CDO-ALLDAYEVENT:TRUE
SUMMARY:Free Summer Fun @ Homestead National Monument
DESCRIPTION:Free Summer Fun\n\n	Children of all ages and their families are invited to investigate nature with Park Rangers at the Park's Education Center. These free programs run from 10:00 am - Noon and reservations are not necessary. Sunscreen and closed toe shoes are encouraged.\n\n	 \n\n	July 7  Prairie Plant Prowl         Prowl the tallgrass prairie with the Park Rangers. Look very closely at the plant life and learn tips along the way about basic plant identification.\n\n	 \n\n	July 14  Beginning Birding         Observe along the trails our feathered friends of all shapes\, sizes and behaviors. Learn to use these clues for basic bird identification.\n\n	 \n\n	July 21   Creek Critters        Ever wonder what's living in the mud in Cub Creek? Park Rangers will bring the creek to you so you can find out! Learn how these creek critters can indicate the health of creeks and ponds.\n\n	 \n\n	July 28    Beetle Mania      Calling all bug hunters! Your help is needed to help discover beetles found in the tallgrass prairie. Plan on catching all kinds of insects in this fun beetle study.\n\n	 \n\n	Aug 4       Nature Discovery Tour   Explore with the Park Rangers and become nature detectives! Investigate clues left along the trails at Homestead. Use these clues to figure out what hidden wildlife surrounds us.
X-ALT-DESC;FMTTYPE=text/html:<p style="margin: 0in 0in 0pt">\n	<b><span style="font-family: 'Arial'\, 'sans-serif'\; color: #857458"><font size="3">Free Summer Fun<o:p></o:p></font></span></b></p>\n<p style="margin: 0in 0in 0pt">\n	<span style="font-family: 'Arial'\, 'sans-serif'\; color: #857458\; font-size: 9pt">Children of all ages and their families are invited to investigate nature with Park Rangers at the Park&#39\;s Education Center. These free programs run from 10:00 am - Noon and reservations are not necessary. Sunscreen and closed toe shoes are encouraged.</span><span style="font-family: 'Arial'\, 'sans-serif'\; color: #857458"><o:p></o:p></span></p>\n<p style="margin: 0in 0in 0pt">\n	<span style="font-family: 'Arial'\, 'sans-serif'\; color: #857458\; font-size: 9pt">&nbsp\;</span><span style="font-family: 'Arial'\, 'sans-serif'\; color: #857458"><o:p></o:p></span></p>\n<p style="margin: 0in 0in 0pt">\n	<span style="font-family: 'Arial'\, 'sans-serif'\; color: #857458\; font-size: 9pt">July 7&nbsp\; Prairie Plant Prowl&nbsp\;&nbsp\;&nbsp\;&nbsp\;&nbsp\;&nbsp\;&nbsp\;&nbsp\; Prowl the tallgrass prairie with the Park Rangers. Look very closely at the plant life and learn tips along the way about basic plant identification.</span><span style="font-family: 'Arial'\, 'sans-serif'\; color: #857458"><o:p></o:p></span></p>\n<p style="margin: 0in 0in 0pt">\n	<span style="font-family: 'Arial'\, 'sans-serif'\; color: #857458\; font-size: 9pt">&nbsp\;</span><span style="font-family: 'Arial'\, 'sans-serif'\; color: #857458"><o:p></o:p></span></p>\n<p style="margin: 0in 0in 0pt">\n	<span style="font-family: 'Arial'\, 'sans-serif'\; color: #857458\; font-size: 9pt">July 14&nbsp\; Beginning Birding&nbsp\;&nbsp\;&nbsp\;&nbsp\;&nbsp\;&nbsp\;&nbsp\;&nbsp\; Observe along the trails our feathered friends of all shapes\, sizes and behaviors. Learn to use these clues for basic bird identification.</span><span style="font-family: 'Arial'\, 'sans-serif'\; color: #857458"><o:p></o:p></span></p>\n<p style="margin: 0in 0in 0pt">\n	<span style="font-family: 'Arial'\, 'sans-serif'\; color: #857458\; font-size: 9pt">&nbsp\;</span><span style="font-family: 'Arial'\, 'sans-serif'\; color: #857458"><o:p></o:p></span></p>\n<p style="margin: 0in 0in 0pt">\n	<span style="font-family: 'Arial'\, 'sans-serif'\; color: #857458\; font-size: 9pt">July 21&nbsp\;&nbsp\; Creek Critters&nbsp\;&nbsp\;&nbsp\;&nbsp\;&nbsp\;&nbsp\;&nbsp\; Ever wonder what&#39\;s living in the mud in Cub Creek? Park Rangers will bring the creek to you so you can find out! Learn how these creek critters can indicate the health of creeks and ponds.</span><span style="font-family: 'Arial'\, 'sans-serif'\; color: #857458"><o:p></o:p></span></p>\n<p style="margin: 0in 0in 0pt">\n	<span style="font-family: 'Arial'\, 'sans-serif'\; color: #857458\; font-size: 9pt">&nbsp\;</span><span style="font-family: 'Arial'\, 'sans-serif'\; color: #857458"><o:p></o:p></span></p>\n<p style="margin: 0in 0in 0pt">\n	<span style="font-family: 'Arial'\, 'sans-serif'\; color: #857458\; font-size: 9pt">July 28&nbsp\;&nbsp\;&nbsp\; Beetle Mania&nbsp\;&nbsp\;&nbsp\;&nbsp\;&nbsp\; Calling all bug hunters! Your help is needed to help discover beetles found in the tallgrass prairie. Plan on catching all kinds of insects in this fun beetle study.</span><span style="font-family: 'Arial'\, 'sans-serif'\; color: #857458"><o:p></o:p></span></p>\n<p style="margin: 0in 0in 0pt">\n	<span style="font-family: 'Arial'\, 'sans-serif'\; color: #857458\; font-size: 9pt">&nbsp\;</span><span style="font-family: 'Arial'\, 'sans-serif'\; color: #857458"><o:p></o:p></span></p>\n<p style="margin: 0in 0in 0pt">\n	<span style="font-family: 'Arial'\, 'sans-serif'\; color: #857458\; font-size: 9pt">Aug 4&nbsp\;&nbsp\;&nbsp\;&nbsp\;&nbsp\;&nbsp\; Nature Discovery Tour&nbsp\;&nbsp\; Explore with the Park Rangers and become nature detectives! Investigate clues left along the trails at Homestead. Use these clues to figure out what hidden wildlife surrounds us.</span><span style="font-family: 'Arial'\, 'sans-serif'\; color: #857458"><o:p></o:p></span></p>\n
LOCATION:
UID:e.41.6303
SEQUENCE:3
DTSTAMP:20260422T114212Z
URL:https://business.beatricechamber.com/events/details/free-summer-fun-homestead-national-monument-07-14-2012-6303
END:VEVENT

END:VCALENDAR
