BEGIN:VCALENDAR
VERSION:2.0
PRODID:-//ChamberMaster//Event Calendar 2.0//EN
METHOD:PUBLISH
X-PUBLISHED-TTL:P3D
REFRESH-INTERVAL:P3D
CALSCALE:GREGORIAN
BEGIN:VEVENT
DTSTART:20101116T190000Z
DTEND:20101117T003000Z
X-MICROSOFT-CDO-ALLDAYEVENT:FALSE
SUMMARY:Freeman Blood Drive
DESCRIPTION:Freeman FFA/NHS Annual Blood Drive\n\n\n\nThe Freeman FFA and National Honor Society are combining to sponsor a blood drive on Tuesday\, Nov. 16\, at Freeman School in Adams.\n\n\n\nTo schedule an appointment to donate blood\, contact Mr. Jensen at tojensen@esu6.org or 402-988-2525\, extension 134. The drive will be held in the Ag classroom from 1-6:30 p.m.
X-ALT-DESC;FMTTYPE=text/html:<span style="font-size: 14px"><strong>Freeman FFA/NHS Annual Blood Drive</strong></span><br />\n<br />\nThe Freeman FFA and National Honor Society are combining to sponsor a blood drive on Tuesday\, Nov. 16\, at Freeman School in Adams.<br />\n<br />\nTo schedule an appointment to donate blood\, contact Mr. Jensen at <a href="mailto:tojensen@esu6.org">tojensen@esu6.org</a> or 402-988-2525\, extension 134. The drive will be held in the Ag classroom from 1-6:30 p.m.
LOCATION:
UID:e.41.2804
SEQUENCE:3
DTSTAMP:20260425T032432Z
URL:https://business.beatricechamber.com/events/details/freeman-blood-drive-11-16-2010-2804
END:VEVENT

END:VCALENDAR
