BEGIN:VCALENDAR
VERSION:2.0
PRODID:-//ChamberMaster//Event Calendar 2.0//EN
METHOD:PUBLISH
X-PUBLISHED-TTL:P3D
REFRESH-INTERVAL:P3D
CALSCALE:GREGORIAN
BEGIN:VEVENT
DTSTART:20110313T160000Z
DTEND:20110313T180000Z
X-MICROSOFT-CDO-ALLDAYEVENT:FALSE
SUMMARY:Fried chicken and roast beef buffet
DESCRIPTION:Wymore American Legion Club.\n\n\n\n$8 for adults\; $4.50 for children under age 12. Carry-out meals available.
X-ALT-DESC;FMTTYPE=text/html:Wymore American Legion Club.<br />\n<br />\n$8 for adults\; $4.50 for children under age 12. Carry-out meals available.
LOCATION:
UID:e.41.4223
SEQUENCE:3
DTSTAMP:20260424T211756Z
URL:https://business.beatricechamber.com/events/details/fried-chicken-and-roast-beef-buffet-03-13-2011-4223
END:VEVENT

END:VCALENDAR
