BEGIN:VCALENDAR
VERSION:2.0
PRODID:-//ChamberMaster//Event Calendar 2.0//EN
METHOD:PUBLISH
X-PUBLISHED-TTL:P3D
REFRESH-INTERVAL:P3D
CALSCALE:GREGORIAN
BEGIN:VEVENT
DTSTART;VALUE=DATE:20110107
DTEND;VALUE=DATE:20110108
TRANSP:TRANSPARENT
X-MICROSOFT-CDO-ALLDAYEVENT:TRUE
SUMMARY:Friendly Singles Card Club
DESCRIPTION:Friendly Singles Card Club\n\n\n\nBeatrice Senior Center\, 101 N 25th Street\, Beatrice\n\nFriday\, January 7\n\n6 p.m.\n\n\n\nCovered dish meal & cards.  Members and their guests welcome.  Remember to pay your yearly dues.
X-ALT-DESC;FMTTYPE=text/html:Friendly Singles Card Club<br />\n<br />\nBeatrice Senior Center\, 101 N 25th Street\, Beatrice<br />\nFriday\, January 7<br />\n6 p.m.<br />\n<br />\nCovered dish meal &amp\; cards.&nbsp\; Members and their guests welcome.&nbsp\; Remember to pay your yearly dues.
LOCATION:
UID:e.41.2939
SEQUENCE:3
DTSTAMP:20260425T003443Z
URL:https://business.beatricechamber.com/events/details/friendly-singles-card-club-01-07-2011-2939
END:VEVENT

END:VCALENDAR
