BEGIN:VCALENDAR
VERSION:2.0
PRODID:-//ChamberMaster//Event Calendar 2.0//EN
METHOD:PUBLISH
X-PUBLISHED-TTL:P3D
REFRESH-INTERVAL:P3D
CALSCALE:GREGORIAN
BEGIN:VEVENT
DTSTART;VALUE=DATE:20100205
DTEND;VALUE=DATE:20100206
TRANSP:TRANSPARENT
X-MICROSOFT-CDO-ALLDAYEVENT:TRUE
SUMMARY:Friendly Singles Card Club
DESCRIPTION:Friendly Singles Card Club 6 p.m. - Meal and cards.  Bring a covered dish.  Table service and water furnished.  Members and their guests welcome.
X-ALT-DESC;FMTTYPE=text/html:<div>Friendly Singles Card Club</div><div>&nbsp\;</div><div>6 p.m. - Meal and cards.&nbsp\; Bring a covered dish.&nbsp\; Table service and water furnished.&nbsp\; Members and their guests welcome.</div>
LOCATION:Parkview Conference Center1216 S. 8thBeatrice
UID:e.41.1588
SEQUENCE:3
DTSTAMP:20260425T165430Z
URL:https://business.beatricechamber.com/events/details/friendly-singles-card-club-02-05-2010-1588
END:VEVENT

END:VCALENDAR
