BEGIN:VCALENDAR
VERSION:2.0
PRODID:-//ChamberMaster//Event Calendar 2.0//EN
METHOD:PUBLISH
X-PUBLISHED-TTL:P3D
REFRESH-INTERVAL:P3D
CALSCALE:GREGORIAN
BEGIN:VEVENT
DTSTART:20091010T230000Z
DTEND:20091011T020000Z
X-MICROSOFT-CDO-ALLDAYEVENT:FALSE
SUMMARY:Friends of Homestead Donor Dinner
DESCRIPTION:
X-ALT-DESC;FMTTYPE=text/html:
LOCATION:Homestead National Monument of America in the Education Center.
UID:e.41.1241
SEQUENCE:3
DTSTAMP:20260425T222525Z
URL:https://business.beatricechamber.com/events/details/friends-of-homestead-donor-dinner-10-10-2009-1241
END:VEVENT

END:VCALENDAR
