BEGIN:VCALENDAR
VERSION:2.0
PRODID:-//ChamberMaster//Event Calendar 2.0//EN
METHOD:PUBLISH
X-PUBLISHED-TTL:P3D
REFRESH-INTERVAL:P3D
CALSCALE:GREGORIAN
BEGIN:VEVENT
DTSTART;VALUE=DATE:20120322
DTEND;VALUE=DATE:20120323
TRANSP:TRANSPARENT
X-MICROSOFT-CDO-ALLDAYEVENT:TRUE
SUMMARY:"From Longships to Spaceships: A Thousand Years of Exploration"
DESCRIPTION:"From Longships to Spaceships: A Thousand Years of Exploration"\n\n\n\nFull color\, 16 panel mural display opens today at Homestead National Monument of America Education Center.  Commissioned by The Planetary Society\; painted by artist Michael Carroll.\n\n\n\nMonument hours of operation:\n\n8:30 am - 5 pm Monday thru Friday\n\n9 am - 5 pm Saturday and Sunday\n\n\n\nwww.nps.gov/home
X-ALT-DESC;FMTTYPE=text/html:&quot\;From Longships to Spaceships: A Thousand Years of Exploration&quot\;<br />\n<br />\nFull color\, 16 panel mural display opens today at Homestead National Monument of America Education Center.&nbsp\; Commissioned by The Planetary Society\; painted by artist Michael Carroll.<br />\n<br />\nMonument hours of operation:<br />\n8:30 am - 5 pm Monday thru Friday<br />\n9 am - 5 pm Saturday and Sunday<br />\n<br />\nwww.nps.gov/home
LOCATION:
UID:e.41.5427
SEQUENCE:3
DTSTAMP:20260422T173644Z
URL:https://business.beatricechamber.com/events/details/from-longships-to-spaceships-a-thousand-years-of-exploration-03-22-2012-5427
END:VEVENT

END:VCALENDAR
