BEGIN:VCALENDAR
VERSION:2.0
PRODID:-//ChamberMaster//Event Calendar 2.0//EN
METHOD:PUBLISH
X-PUBLISHED-TTL:P3D
REFRESH-INTERVAL:P3D
CALSCALE:GREGORIAN
BEGIN:VEVENT
DTSTART;VALUE=DATE:20111105
DTEND;VALUE=DATE:20111106
TRANSP:TRANSPARENT
X-MICROSOFT-CDO-ALLDAYEVENT:TRUE
SUMMARY:Frosty Frolic Holiday Market
DESCRIPTION:Frosty Frolic Holiday Market (craft fair)\n\n\n\nFairbury\, Nebraska\n\n\n\nMore info call 402-729-6116
X-ALT-DESC;FMTTYPE=text/html:Frosty Frolic Holiday Market (craft fair)<br />\n<br />\nFairbury\, Nebraska<br />\n<br />\nMore info call 402-729-6116
LOCATION:
UID:e.41.5140
SEQUENCE:3
DTSTAMP:20260424T111723Z
URL:https://business.beatricechamber.com/events/details/frosty-frolic-holiday-market-11-05-2011-5140
END:VEVENT

END:VCALENDAR
