BEGIN:VCALENDAR
VERSION:2.0
PRODID:-//ChamberMaster//Event Calendar 2.0//EN
METHOD:PUBLISH
X-PUBLISHED-TTL:P3D
REFRESH-INTERVAL:P3D
CALSCALE:GREGORIAN
BEGIN:VEVENT
DTSTART:20110821T160000Z
DTEND:20110821T190000Z
X-MICROSOFT-CDO-ALLDAYEVENT:FALSE
SUMMARY:Fundraiser for Gracie Schultz
DESCRIPTION:11 a.m.-2 p.m.\, Aunt Mary's Center\, 8th and Court St.\, Beatrice.  Sloppy joes\, hot dogs\, chips\, beans\, potato salad\, cookies\; freewill donation.  Silent auction\, 11 a.m.- 2 p.m.  Live auction\, 1-2 p.m.\n\n\n\nMatching funds by Thrivent Financial\; money raised for Gracie's medical care.  Donations can also be made to "Gracie Schultz Charitable Donation" at First National Bank of Omaha-Beatrice Branch\, Indian Creek Mall and at 8th and Court.\n\n\n\nFor benefit information:  Andrea Schafer\, 402-239-7444.
X-ALT-DESC;FMTTYPE=text/html:11 a.m.-2 p.m.\, Aunt Mary&#39\;s Center\, 8th and Court St.\, Beatrice.&nbsp\; Sloppy joes\, hot dogs\, chips\, beans\, potato salad\, cookies\; freewill donation.&nbsp\; Silent auction\, 11 a.m.- 2 p.m.&nbsp\; Live auction\, 1-2 p.m.<br />\n<br />\nMatching funds by Thrivent Financial\; money raised for Gracie&#39\;s medical care.&nbsp\; Donations can also be made to &quot\;Gracie Schultz Charitable Donation&quot\;&nbsp\;at First National Bank of Omaha-Beatrice Branch\, Indian Creek Mall and at 8th and Court.<br />\n<br />\nFor benefit information:&nbsp\; Andrea Schafer\, 402-239-7444.
LOCATION:
UID:e.41.5045
SEQUENCE:3
DTSTAMP:20260424T134311Z
URL:https://business.beatricechamber.com/events/details/fundraiser-for-gracie-schultz-08-21-2011-5045
END:VEVENT

END:VCALENDAR
