BEGIN:VCALENDAR
VERSION:2.0
PRODID:-//ChamberMaster//Event Calendar 2.0//EN
METHOD:PUBLISH
X-PUBLISHED-TTL:P3D
REFRESH-INTERVAL:P3D
CALSCALE:GREGORIAN
BEGIN:VEVENT
DTSTART:20110605T210000Z
DTEND:20110605T230000Z
X-MICROSOFT-CDO-ALLDAYEVENT:FALSE
SUMMARY:Fundraiser for Homesteader Candidates
DESCRIPTION:Fundraiser for Homesteader Candidates\n\n\n\nA freewill donation ice cream social for three Homesteader candidates is being held Sunday\, June 5 from 4-6 pm in Chautauqua Park in Beatrice.\n\n\n\nThe event is in support of candidates Lisa Pieper\, Joni Bruhn\, and Margie Hofeling in their run for Mrs. Homesteader.\n\n\n\nDonations for this annual event benefit Blue Valley Behavioral Health.
X-ALT-DESC;FMTTYPE=text/html:Fundraiser for Homesteader Candidates<br />\n<br />\nA freewill donation ice cream social for three Homesteader candidates is being held Sunday\, June 5 from 4-6 pm in Chautauqua Park in Beatrice.<br />\n<br />\nThe event is in support of candidates Lisa Pieper\, Joni Bruhn\, and Margie Hofeling in their run for Mrs. Homesteader.<br />\n<br />\nDonations for this annual event benefit Blue Valley Behavioral Health.
LOCATION:
UID:e.41.4849
SEQUENCE:3
DTSTAMP:20260424T165728Z
URL:https://business.beatricechamber.com/events/details/fundraiser-for-homesteader-candidates-06-05-2011-4849
END:VEVENT

END:VCALENDAR
