BEGIN:VCALENDAR
VERSION:2.0
PRODID:-//ChamberMaster//Event Calendar 2.0//EN
METHOD:PUBLISH
X-PUBLISHED-TTL:P3D
REFRESH-INTERVAL:P3D
CALSCALE:GREGORIAN
BEGIN:VEVENT
DTSTART;VALUE=DATE:20111117
DTEND;VALUE=DATE:20111118
TRANSP:TRANSPARENT
X-MICROSOFT-CDO-ALLDAYEVENT:TRUE
SUMMARY:Gage County Agricultural Society Annual Meeting
DESCRIPTION:Gage County Agricultural Society Annual Meeting\n\n\n\nThursday\, November 17\n\n8 pm\n\n\n\nGage County Extension Office meeting room\n\n1115 West Scott Street\, Beatrice\, NE 68310\n\n\n\nThe meeting is open to the public and all residents of Gage County may attend.\n\n\n\n\n\n402-223-1384
X-ALT-DESC;FMTTYPE=text/html:Gage County Agricultural Society Annual Meeting<br />\n<br />\nThursday\, November 17<br />\n8 pm<br />\n<br />\nGage County Extension Office meeting room<br />\n1115 West Scott Street\, Beatrice\, NE 68310<br />\n<br />\nThe meeting is open to the public and all residents of Gage County may attend.<br />\n<br />\n<br />\n402-223-1384<br />\n
LOCATION:
UID:e.41.5250
SEQUENCE:3
DTSTAMP:20260424T100137Z
URL:https://business.beatricechamber.com/events/details/gage-county-agricultural-society-annual-meeting-11-17-2011-5250
END:VEVENT

END:VCALENDAR
