BEGIN:VCALENDAR
VERSION:2.0
PRODID:-//ChamberMaster//Event Calendar 2.0//EN
METHOD:PUBLISH
X-PUBLISHED-TTL:P3D
REFRESH-INTERVAL:P3D
CALSCALE:GREGORIAN
BEGIN:VEVENT
DTSTART;VALUE=DATE:20110720
DTEND;VALUE=DATE:20110725
TRANSP:TRANSPARENT
X-MICROSOFT-CDO-ALLDAYEVENT:TRUE
SUMMARY:Gage County Fair
DESCRIPTION:Gage County Fair 2011\n\nTheme:  "Gage County's Got Talent"\n\nJuly 20 - 24\n\n\n\nFor complete details\, click here:  http://www.gagecountyfair.com/\n\n\n\nTuesday\, July 19th - Ag BBQ\n\nWednesday\, July 20th - Easton Corbin\n\nThursday\, July 21st - Jason Jones and Steel Magnolia\n\nFriday\, July 22nd - Stock car races\n\nSaturday\, July 23rd - Eve of Destruction\n\nSunday\, July 24th - Nebraska Bush Pullers tractor pull
X-ALT-DESC;FMTTYPE=text/html:Gage County Fair 2011<br />\nTheme:&nbsp\; &quot\;Gage County&#39\;s Got Talent&quot\;<br />\nJuly 20 - 24<br />\n<br />\nFor complete details\, click here:&nbsp\; <a href="http://www.gagecountyfair.com/">http://www.gagecountyfair.com/</a><br />\n<br />\nTuesday\, July 19th - Ag BBQ<br />\nWednesday\, July 20th - Easton Corbin<br />\nThursday\, July 21st - Jason Jones and Steel Magnolia<br />\nFriday\, July 22nd - Stock car races<br />\nSaturday\, July 23rd - Eve of Destruction<br />\nSunday\, July 24th - Nebraska Bush Pullers tractor pull
LOCATION:
UID:e.41.4032
SEQUENCE:3
DTSTAMP:20260424T153832Z
URL:https://business.beatricechamber.com/events/details/gage-county-fair-07-20-2011-4032
END:VEVENT

END:VCALENDAR
