BEGIN:VCALENDAR
VERSION:2.0
PRODID:-//ChamberMaster//Event Calendar 2.0//EN
METHOD:PUBLISH
X-PUBLISHED-TTL:P3D
REFRESH-INTERVAL:P3D
CALSCALE:GREGORIAN
BEGIN:VEVENT
DTSTART;VALUE=DATE:20090722
DTEND;VALUE=DATE:20090727
TRANSP:TRANSPARENT
X-MICROSOFT-CDO-ALLDAYEVENT:TRUE
SUMMARY:Gage County Fair
DESCRIPTION:"The Power of Green"
X-ALT-DESC;FMTTYPE=text/html:<div>&quot\;The Power of Green&quot\;</div>
LOCATION:
UID:e.41.1059
SEQUENCE:3
DTSTAMP:20260426T025927Z
URL:https://business.beatricechamber.com/events/details/gage-county-fair-07-22-2009-1059
END:VEVENT

END:VCALENDAR
